BEGIN:VCALENDAR
VERSION:2.0
PRODID:-//East Baltimore Graffiti Church - ECPv6.15.20//NONSGML v1.0//EN
CALSCALE:GREGORIAN
METHOD:PUBLISH
X-ORIGINAL-URL:https://ebgraffiti.org
X-WR-CALDESC:Events for East Baltimore Graffiti Church
REFRESH-INTERVAL;VALUE=DURATION:PT1H
X-Robots-Tag:noindex
X-PUBLISHED-TTL:PT1H
BEGIN:VTIMEZONE
TZID:America/New_York
BEGIN:DAYLIGHT
TZOFFSETFROM:-0500
TZOFFSETTO:-0400
TZNAME:EDT
DTSTART:20240310T070000
END:DAYLIGHT
BEGIN:STANDARD
TZOFFSETFROM:-0400
TZOFFSETTO:-0500
TZNAME:EST
DTSTART:20241103T060000
END:STANDARD
BEGIN:DAYLIGHT
TZOFFSETFROM:-0500
TZOFFSETTO:-0400
TZNAME:EDT
DTSTART:20250309T070000
END:DAYLIGHT
BEGIN:STANDARD
TZOFFSETFROM:-0400
TZOFFSETTO:-0500
TZNAME:EST
DTSTART:20251102T060000
END:STANDARD
BEGIN:DAYLIGHT
TZOFFSETFROM:-0500
TZOFFSETTO:-0400
TZNAME:EDT
DTSTART:20260308T070000
END:DAYLIGHT
BEGIN:STANDARD
TZOFFSETFROM:-0400
TZOFFSETTO:-0500
TZNAME:EST
DTSTART:20261101T060000
END:STANDARD
END:VTIMEZONE
BEGIN:VEVENT
DTSTART;TZID=America/New_York:20250612T180000
DTEND;TZID=America/New_York:20250612T190000
DTSTAMP:20260420T145638
CREATED:20250527T230825Z
LAST-MODIFIED:20250527T230825Z
UID:3457-1749751200-1749754800@ebgraffiti.org
SUMMARY:Prayer Meeting
DESCRIPTION:Join us as we pray for each other\, our community\, and our world.
URL:https://ebgraffiti.org/event/prayer-meeting/
END:VEVENT
BEGIN:VEVENT
DTSTART;TZID=America/New_York:20250608T123000
DTEND;TZID=America/New_York:20250608T133000
DTSTAMP:20260420T145638
CREATED:20250527T230652Z
LAST-MODIFIED:20250527T230652Z
UID:3455-1749385800-1749389400@ebgraffiti.org
SUMMARY:Membership Class
DESCRIPTION:Join us to learn more about becoming a member of Graffiti Church.
URL:https://ebgraffiti.org/event/membership-class/
END:VEVENT
END:VCALENDAR